BEGIN:VCALENDAR
VERSION:2.0
PRODID:-//Popular Productions - ECPv6.15.20//NONSGML v1.0//EN
CALSCALE:GREGORIAN
METHOD:PUBLISH
X-WR-CALNAME:Popular Productions
X-ORIGINAL-URL:https://popularproductions.com
X-WR-CALDESC:Events for Popular Productions
REFRESH-INTERVAL;VALUE=DURATION:PT1H
X-Robots-Tag:noindex
X-PUBLISHED-TTL:PT1H
BEGIN:VTIMEZONE
TZID:America/Chicago
BEGIN:DAYLIGHT
TZOFFSETFROM:-0600
TZOFFSETTO:-0500
TZNAME:CDT
DTSTART:20220313T080000
END:DAYLIGHT
BEGIN:STANDARD
TZOFFSETFROM:-0500
TZOFFSETTO:-0600
TZNAME:CST
DTSTART:20221106T070000
END:STANDARD
BEGIN:DAYLIGHT
TZOFFSETFROM:-0600
TZOFFSETTO:-0500
TZNAME:CDT
DTSTART:20230312T080000
END:DAYLIGHT
BEGIN:STANDARD
TZOFFSETFROM:-0500
TZOFFSETTO:-0600
TZNAME:CST
DTSTART:20231105T070000
END:STANDARD
BEGIN:DAYLIGHT
TZOFFSETFROM:-0600
TZOFFSETTO:-0500
TZNAME:CDT
DTSTART:20240310T080000
END:DAYLIGHT
BEGIN:STANDARD
TZOFFSETFROM:-0500
TZOFFSETTO:-0600
TZNAME:CST
DTSTART:20241103T070000
END:STANDARD
END:VTIMEZONE
BEGIN:VEVENT
DTSTART;TZID=America/Chicago:20230119T203000
DTEND;TZID=America/Chicago:20230119T235900
DTSTAMP:20260422T132256
CREATED:20230110T205923Z
LAST-MODIFIED:20230117T163606Z
UID:2371-1674160200-1674172740@popularproductions.com
SUMMARY:Sonny Salinas - The Monster of Reggae
DESCRIPTION:
URL:https://popularproductions.com/event/sonny-salinas-the-monster-of-reggae/
LOCATION:Rockit’s Whiskey Bar and Saloon\, 709 N Chaparral St.\, Corpus Christi\, TX\, 78401\, United States
CATEGORIES:Events,Live Show
ATTACH;FMTTYPE=image/jpeg:https://popularproductions.com/wp-content/uploads/2023/01/323900038_1687265468337820_6313401647899304164_n.jpg
END:VEVENT
END:VCALENDAR