BEGIN:VCALENDAR
VERSION:2.0
PRODID:-//Popular Productions - ECPv6.15.20//NONSGML v1.0//EN
CALSCALE:GREGORIAN
METHOD:PUBLISH
X-ORIGINAL-URL:https://popularproductions.com
X-WR-CALDESC:Events for Popular Productions
REFRESH-INTERVAL;VALUE=DURATION:PT1H
X-Robots-Tag:noindex
X-PUBLISHED-TTL:PT1H
BEGIN:VTIMEZONE
TZID:America/Chicago
BEGIN:DAYLIGHT
TZOFFSETFROM:-0600
TZOFFSETTO:-0500
TZNAME:CDT
DTSTART:20220313T080000
END:DAYLIGHT
BEGIN:STANDARD
TZOFFSETFROM:-0500
TZOFFSETTO:-0600
TZNAME:CST
DTSTART:20221106T070000
END:STANDARD
BEGIN:DAYLIGHT
TZOFFSETFROM:-0600
TZOFFSETTO:-0500
TZNAME:CDT
DTSTART:20230312T080000
END:DAYLIGHT
BEGIN:STANDARD
TZOFFSETFROM:-0500
TZOFFSETTO:-0600
TZNAME:CST
DTSTART:20231105T070000
END:STANDARD
BEGIN:DAYLIGHT
TZOFFSETFROM:-0600
TZOFFSETTO:-0500
TZNAME:CDT
DTSTART:20240310T080000
END:DAYLIGHT
BEGIN:STANDARD
TZOFFSETFROM:-0500
TZOFFSETTO:-0600
TZNAME:CST
DTSTART:20241103T070000
END:STANDARD
END:VTIMEZONE
BEGIN:VEVENT
DTSTART;TZID=America/Chicago:20230805T200000
DTEND;TZID=America/Chicago:20230805T233000
DTSTAMP:20260422T103205
CREATED:20230722T213645Z
LAST-MODIFIED:20230722T213645Z
UID:2661-1691265600-1691278200@popularproductions.com
SUMMARY:Sing-A-Long Piano Bar - Featuring Russell Boyd
DESCRIPTION:
URL:https://popularproductions.com/event/sing-a-long-piano-bar-featuring-russell-boyd-2/
LOCATION:Mesquite Street Live (Southside)\, 4535 S.Padre Island Drive\, Corpus Christi\, TX\, 78411\, United States
CATEGORIES:Events,Tribute Band
ATTACH;FMTTYPE=image/jpeg:https://popularproductions.com/wp-content/uploads/2023/07/Russell-Boyd-Aug-5.jpg
ORGANIZER;CN="Popular Productions":MAILTO:info@popularproductions.com
END:VEVENT
BEGIN:VEVENT
DTSTART;TZID=America/Chicago:20230804T200000
DTEND;TZID=America/Chicago:20230804T234500
DTSTAMP:20260422T103205
CREATED:20230621T113601Z
LAST-MODIFIED:20230621T113601Z
UID:2650-1691179200-1691192700@popularproductions.com
SUMMARY:Emo Night Karaoke - live band
DESCRIPTION:
URL:https://popularproductions.com/event/emo-night-karaoke-live-band/
LOCATION:Mesquite Street Live (Southside)\, 4535 S.Padre Island Drive\, Corpus Christi\, TX\, 78411\, United States
CATEGORIES:Events,Tribute Band
ATTACH;FMTTYPE=image/jpeg:https://popularproductions.com/wp-content/uploads/2023/06/emo-night-karaoke.jpg
ORGANIZER;CN="Popular Productions":MAILTO:info@popularproductions.com
END:VEVENT
BEGIN:VEVENT
DTSTART;TZID=America/Chicago:20230803T190000
DTEND;TZID=America/Chicago:20230803T234500
DTSTAMP:20260422T103205
CREATED:20230621T112525Z
LAST-MODIFIED:20230621T112942Z
UID:2644-1691089200-1691106300@popularproductions.com
SUMMARY:Crobot - Serious\, Rock\, Business Tour
DESCRIPTION:
URL:https://popularproductions.com/event/crobot-serious-rock-business-tour/
LOCATION:Mesquite Street Live (Southside)\, 4535 S.Padre Island Drive\, Corpus Christi\, TX\, 78411\, United States
CATEGORIES:Events,Tribute Band
ATTACH;FMTTYPE=image/jpeg:https://popularproductions.com/wp-content/uploads/2023/06/CroBot.jpeg
ORGANIZER;CN="Popular Productions":MAILTO:info@popularproductions.com
END:VEVENT
BEGIN:VEVENT
DTSTART;TZID=America/Chicago:20230729T190000
DTEND;TZID=America/Chicago:20230729T234500
DTSTAMP:20260422T103205
CREATED:20230321T161933Z
LAST-MODIFIED:20230601T172547Z
UID:2611-1690657200-1690674300@popularproductions.com
SUMMARY:The Texas Eagles - America's Premier Eagles Experience - Portland TX
DESCRIPTION:
URL:https://popularproductions.com/event/the-texas-eagles-americas-premier-eagles-experience/
LOCATION:Portland L.E.D.\, 614 Houston\, Portland\, TX\, 78374\, United States
CATEGORIES:Events,Tribute Band
ATTACH;FMTTYPE=image/jpeg:https://popularproductions.com/wp-content/uploads/2023/03/Texas-Eagles-Graphic.jpg
ORGANIZER;CN="Popular Productions":MAILTO:info@popularproductions.com
END:VEVENT
BEGIN:VEVENT
DTSTART;TZID=America/Chicago:20230726T180000
DTEND;TZID=America/Chicago:20230726T234500
DTSTAMP:20260422T103205
CREATED:20230621T113133Z
LAST-MODIFIED:20230621T113144Z
UID:2647-1690394400-1690415100@popularproductions.com
SUMMARY:Jonny Craig
DESCRIPTION:
URL:https://popularproductions.com/event/jonny-craig/
LOCATION:Mesquite Street Live (Southside)\, 4535 S.Padre Island Drive\, Corpus Christi\, TX\, 78411\, United States
CATEGORIES:Events,Tribute Band
ATTACH;FMTTYPE=image/jpeg:https://popularproductions.com/wp-content/uploads/2023/06/Jonny-Craig.jpg
ORGANIZER;CN="Popular Productions":MAILTO:info@popularproductions.com
END:VEVENT
BEGIN:VEVENT
DTSTART;TZID=America/Chicago:20230714T190000
DTEND;TZID=America/Chicago:20230714T234500
DTSTAMP:20260422T103205
CREATED:20230608T235232Z
LAST-MODIFIED:20230608T235335Z
UID:2630-1689361200-1689378300@popularproductions.com
SUMMARY:Jon Wolfe - Portland TX
DESCRIPTION:
URL:https://popularproductions.com/event/jon-wolfe-portland-tx/
LOCATION:Portland L.E.D.\, 614 Houston\, Portland\, TX\, 78374\, United States
CATEGORIES:Events,Tribute Band
ATTACH;FMTTYPE=image/jpeg:https://popularproductions.com/wp-content/uploads/2023/06/Jon-Wolfe-in-Concert-Portland-Tx-July-14.jpeg
ORGANIZER;CN="Popular Productions":MAILTO:info@popularproductions.com
END:VEVENT
BEGIN:VEVENT
DTSTART;TZID=America/Chicago:20230704T173000
DTEND;TZID=America/Chicago:20230704T220000
DTSTAMP:20260422T103205
CREATED:20230701T210820Z
LAST-MODIFIED:20230701T210820Z
UID:2657-1688491800-1688508000@popularproductions.com
SUMMARY:4th of July Big Bang Pre-Party and Firework Show
DESCRIPTION:
URL:https://popularproductions.com/event/4th-of-july-big-bang-pre-party-and-firework-show/
LOCATION:Art Center of Corpus Christi\, 100 N. Shoreline Blvd\, Corpus Christi\, TX\, 78401\, United States
ATTACH;FMTTYPE=image/jpeg:https://popularproductions.com/wp-content/uploads/2023/07/4th-of-july.jpg
ORGANIZER;CN="Popular Productions":MAILTO:info@popularproductions.com
END:VEVENT
BEGIN:VEVENT
DTSTART;TZID=America/Chicago:20230624T190000
DTEND;TZID=America/Chicago:20230624T234500
DTSTAMP:20260422T103205
CREATED:20230620T142956Z
LAST-MODIFIED:20230620T143040Z
UID:2637-1687633200-1687650300@popularproductions.com
SUMMARY:Captain Fantastic - A Tribute to Elton John
DESCRIPTION:
URL:https://popularproductions.com/event/captain-fantastic-a-tribute-to-elton-john/
LOCATION:Mesquite Street Live (Southside)\, 4535 S.Padre Island Drive\, Corpus Christi\, TX\, 78411\, United States
CATEGORIES:Events,Tribute Band
ATTACH;FMTTYPE=image/jpeg:https://popularproductions.com/wp-content/uploads/2023/06/Captain-Fantastic.jpg
ORGANIZER;CN="Popular Productions":MAILTO:info@popularproductions.com
END:VEVENT
BEGIN:VEVENT
DTSTART;TZID=America/Chicago:20230622T190000
DTEND;TZID=America/Chicago:20230622T234500
DTSTAMP:20260422T103205
CREATED:20230620T142806Z
LAST-MODIFIED:20230620T142806Z
UID:2634-1687460400-1687477500@popularproductions.com
SUMMARY:Thunder Struck - America's AC/DC Experience
DESCRIPTION:
URL:https://popularproductions.com/event/thunder-struck-americas-ac-dc-experience/
LOCATION:Mesquite Street Live (Southside)\, 4535 S.Padre Island Drive\, Corpus Christi\, TX\, 78411\, United States
CATEGORIES:Events,Tribute Band
ATTACH;FMTTYPE=image/jpeg:https://popularproductions.com/wp-content/uploads/2023/06/Thunder-struck.jpg
ORGANIZER;CN="Popular Productions":MAILTO:info@popularproductions.com
END:VEVENT
BEGIN:VEVENT
DTSTART;TZID=America/Chicago:20230617T190000
DTEND;TZID=America/Chicago:20230617T233000
DTSTAMP:20260422T103205
CREATED:20230531T213332Z
LAST-MODIFIED:20230531T213332Z
UID:2618-1687028400-1687044600@popularproductions.com
SUMMARY:Sing-A-Long Piano Bar in Portland TX - Featuring Russell Boyd
DESCRIPTION:
URL:https://popularproductions.com/event/sing-a-long-piano-bar-in-portland-tx-featuring-russell-boyd/
LOCATION:Portland L.E.D.\, 614 Houston\, Portland\, TX\, 78374\, United States
CATEGORIES:Events,Tribute Band
ATTACH;FMTTYPE=image/jpeg:https://popularproductions.com/wp-content/uploads/2023/05/Russell-Boyd.jpg
END:VEVENT
BEGIN:VEVENT
DTSTART;TZID=America/Chicago:20230603T190000
DTEND;TZID=America/Chicago:20230603T234500
DTSTAMP:20260422T103205
CREATED:20230531T214039Z
LAST-MODIFIED:20230531T214103Z
UID:2622-1685818800-1685835900@popularproductions.com
SUMMARY:Timeline - A Tribute to Pat Benatar
DESCRIPTION:
URL:https://popularproductions.com/event/timeline-a-tribute-to-pat-benatar/
LOCATION:Mesquite Street Live (Southside)\, 4535 S.Padre Island Drive\, Corpus Christi\, TX\, 78411\, United States
CATEGORIES:Events,Tribute Band
ATTACH;FMTTYPE=image/jpeg:https://popularproductions.com/wp-content/uploads/2023/05/Timeline-A-Tribute-to-Pat-Benatar.jpg
ORGANIZER;CN="Popular Productions":MAILTO:info@popularproductions.com
END:VEVENT
BEGIN:VEVENT
DTSTART;TZID=America/Chicago:20230512T200000
DTEND;TZID=America/Chicago:20230512T234500
DTSTAMP:20260422T103205
CREATED:20230225T115346Z
LAST-MODIFIED:20230225T115346Z
UID:2599-1683921600-1683935100@popularproductions.com
SUMMARY:Charlie Robison
DESCRIPTION:
URL:https://popularproductions.com/event/charlie-robison/
LOCATION:Mesquite Street Live (Southside)\, 4535 S.Padre Island Drive\, Corpus Christi\, TX\, 78411\, United States
CATEGORIES:Events,Tribute Band
ATTACH;FMTTYPE=image/jpeg:https://popularproductions.com/wp-content/uploads/2023/02/charlie-robison.jpg
END:VEVENT
BEGIN:VEVENT
DTSTART;TZID=America/Chicago:20230429T200000
DTEND;TZID=America/Chicago:20230429T234500
DTSTAMP:20260422T103205
CREATED:20230321T161656Z
LAST-MODIFIED:20230321T161656Z
UID:2606-1682798400-1682811900@popularproductions.com
SUMMARY:Queen Legacy - A Tribute to Queen
DESCRIPTION:
URL:https://popularproductions.com/event/queen-legacy-a-tribute-to-queen/
LOCATION:Mesquite Street Live (Southside)\, 4535 S.Padre Island Drive\, Corpus Christi\, TX\, 78411\, United States
CATEGORIES:Events,Tribute Band
ATTACH;FMTTYPE=image/jpeg:https://popularproductions.com/wp-content/uploads/2023/03/queen-legacy.jpg
ORGANIZER;CN="Popular Productions":MAILTO:info@popularproductions.com
END:VEVENT
BEGIN:VEVENT
DTSTART;TZID=America/Chicago:20230408T200000
DTEND;TZID=America/Chicago:20230408T234500
DTSTAMP:20260422T103205
CREATED:20230321T161824Z
LAST-MODIFIED:20230321T162032Z
UID:2609-1680984000-1680997500@popularproductions.com
SUMMARY:Boys Don't Cry - The Ultimate Cure Experience
DESCRIPTION:
URL:https://popularproductions.com/event/boys-dont-cry-the-ultimate-cure-experience/
LOCATION:Mesquite Street Live (Southside)\, 4535 S.Padre Island Drive\, Corpus Christi\, TX\, 78411\, United States
CATEGORIES:Events,Tribute Band
ATTACH;FMTTYPE=image/jpeg:https://popularproductions.com/wp-content/uploads/2023/03/the-cure.jpg
ORGANIZER;CN="Popular Productions":MAILTO:info@popularproductions.com
END:VEVENT
BEGIN:VEVENT
DTSTART;TZID=America/Chicago:20230324T200000
DTEND;TZID=America/Chicago:20230324T233000
DTSTAMP:20260422T103205
CREATED:20230202T212926Z
LAST-MODIFIED:20230202T212926Z
UID:2591-1679688000-1679700600@popularproductions.com
SUMMARY:Metal Shop
DESCRIPTION:
URL:https://popularproductions.com/event/metal-shop/
LOCATION:Mesquite Street Live (Southside)\, 4535 S.Padre Island Drive\, Corpus Christi\, TX\, 78411\, United States
CATEGORIES:Events,Tribute Band
ATTACH;FMTTYPE=image/jpeg:https://popularproductions.com/wp-content/uploads/2023/02/metal-shop.jpg
END:VEVENT
BEGIN:VEVENT
DTSTART;TZID=America/Chicago:20230317T200000
DTEND;TZID=America/Chicago:20230317T234500
DTSTAMP:20260422T103205
CREATED:20230225T115703Z
LAST-MODIFIED:20230225T115738Z
UID:2603-1679083200-1679096700@popularproductions.com
SUMMARY:Back In Black
DESCRIPTION:
URL:https://popularproductions.com/event/back-in-black/
LOCATION:Mesquite Street Live (Southside)\, 4535 S.Padre Island Drive\, Corpus Christi\, TX\, 78411\, United States
CATEGORIES:Events,Tribute Band
ATTACH;FMTTYPE=image/jpeg:https://popularproductions.com/wp-content/uploads/2023/02/back-in-black.jpg
END:VEVENT
BEGIN:VEVENT
DTSTART;TZID=America/Chicago:20230311T200000
DTEND;TZID=America/Chicago:20230311T233000
DTSTAMP:20260422T103205
CREATED:20230202T160451Z
LAST-MODIFIED:20230202T213008Z
UID:2586-1678564800-1678577400@popularproductions.com
SUMMARY:Sing-A-Long Piano Bar - Featuring Russell Boyd
DESCRIPTION:
URL:https://popularproductions.com/event/sing-a-long-piano-bar-featuring-russell-boyd/
LOCATION:Mesquite Street Live (Southside)\, 4535 S.Padre Island Drive\, Corpus Christi\, TX\, 78411\, United States
CATEGORIES:Events,Tribute Band
ATTACH;FMTTYPE=image/jpeg:https://popularproductions.com/wp-content/uploads/2023/02/sing-a-long-piano.jpg
END:VEVENT
BEGIN:VEVENT
DTSTART;TZID=America/Chicago:20230225T200000
DTEND;TZID=America/Chicago:20230225T233000
DTSTAMP:20260422T103205
CREATED:20230202T143803Z
LAST-MODIFIED:20230202T213027Z
UID:2580-1677355200-1677367800@popularproductions.com
SUMMARY:Dreams - Fleetwood Mac Tribute
DESCRIPTION:
URL:https://popularproductions.com/event/dreams-fleetwood-mac-tribute/
LOCATION:Mesquite Street Live (Southside)\, 4535 S.Padre Island Drive\, Corpus Christi\, TX\, 78411\, United States
CATEGORIES:Events,Tribute Band
ATTACH;FMTTYPE=image/jpeg:https://popularproductions.com/wp-content/uploads/2023/02/A204882A-E844-4C94-AB20-0FAC12252D62.jpeg
END:VEVENT
BEGIN:VEVENT
DTSTART;TZID=America/Chicago:20230216T200000
DTEND;TZID=America/Chicago:20230217T000000
DTSTAMP:20260422T103205
CREATED:20230210T162122Z
LAST-MODIFIED:20230210T162122Z
UID:2595-1676577600-1676592000@popularproductions.com
SUMMARY:Rich O’Toole w/ Mikey Rivera Jr.
DESCRIPTION:
URL:https://popularproductions.com/event/rich-otoole-w-mikey-rivera-jr/
LOCATION:Rockit’s Whiskey Bar and Saloon\, 709 N Chaparral St.\, Corpus Christi\, TX\, 78401\, United States
CATEGORIES:Events,Live Show
ATTACH;FMTTYPE=image/jpeg:https://popularproductions.com/wp-content/uploads/2023/02/Rich_117231675254411.jpeg
END:VEVENT
BEGIN:VEVENT
DTSTART;TZID=America/Chicago:20230128T210000
DTEND;TZID=America/Chicago:20230129T010000
DTSTAMP:20260422T103205
CREATED:20230124T210704Z
LAST-MODIFIED:20230124T210704Z
UID:2576-1674939600-1674954000@popularproductions.com
SUMMARY:Adrenaline
DESCRIPTION:
URL:https://popularproductions.com/event/adrenaline/
LOCATION:Rockit’s Whiskey Bar and Saloon\, 709 N Chaparral St.\, Corpus Christi\, TX\, 78401\, United States
CATEGORIES:Events,Live Show
ATTACH;FMTTYPE=image/jpeg:https://popularproductions.com/wp-content/uploads/2023/01/Adrenaline-1.jpeg
END:VEVENT
BEGIN:VEVENT
DTSTART;TZID=America/Chicago:20230127T210000
DTEND;TZID=America/Chicago:20230128T010000
DTSTAMP:20260422T103205
CREATED:20230113T114027Z
LAST-MODIFIED:20230117T163547Z
UID:2418-1674853200-1674867600@popularproductions.com
SUMMARY:The Dial-Ups - Tribute to 90s / 2000s Rock
DESCRIPTION:
URL:https://popularproductions.com/event/the-dial-ups-tribute-to-90s-2000s-rock/
LOCATION:Rockit’s Whiskey Bar and Saloon\, 709 N Chaparral St.\, Corpus Christi\, TX\, 78401\, United States
CATEGORIES:Events,Live Show
ATTACH;FMTTYPE=image/jpeg:https://popularproductions.com/wp-content/uploads/2023/01/the-dial-ups.jpg
END:VEVENT
BEGIN:VEVENT
DTSTART;TZID=America/Chicago:20230126T203000
DTEND;TZID=America/Chicago:20230126T235900
DTSTAMP:20260422T103205
CREATED:20230117T215351Z
LAST-MODIFIED:20230117T220041Z
UID:2552-1674765000-1674777540@popularproductions.com
SUMMARY:Sonny Salinas - The Monster of Reggae
DESCRIPTION:
URL:https://popularproductions.com/event/sonny-salinas-the-monster-of-reggae-2/
LOCATION:Rockit’s Whiskey Bar and Saloon\, 709 N Chaparral St.\, Corpus Christi\, TX\, 78401\, United States
CATEGORIES:Events,Live Show
ATTACH;FMTTYPE=image/jpeg:https://popularproductions.com/wp-content/uploads/2023/01/325347684_623347929557687_3874247613733973108_n.jpg
END:VEVENT
BEGIN:VEVENT
DTSTART;TZID=America/Chicago:20230121T210000
DTEND;TZID=America/Chicago:20230122T010000
DTSTAMP:20260422T103205
CREATED:20230117T215222Z
LAST-MODIFIED:20230117T220125Z
UID:2550-1674334800-1674349200@popularproductions.com
SUMMARY:Diamond's Edge
DESCRIPTION:
URL:https://popularproductions.com/event/diamonds-edge/
LOCATION:Rockit’s Whiskey Bar and Saloon\, 709 N Chaparral St.\, Corpus Christi\, TX\, 78401\, United States
CATEGORIES:Events,Live Show
ATTACH;FMTTYPE=image/jpeg:https://popularproductions.com/wp-content/uploads/2023/01/321237868_1576445939474818_636742920752571373_n.jpg
END:VEVENT
BEGIN:VEVENT
DTSTART;TZID=America/Chicago:20230120T210000
DTEND;TZID=America/Chicago:20230121T010000
DTSTAMP:20260422T103205
CREATED:20230117T215043Z
LAST-MODIFIED:20230117T215557Z
UID:2548-1674248400-1674262800@popularproductions.com
SUMMARY:Flat Broke
DESCRIPTION:
URL:https://popularproductions.com/event/flat-broke/
LOCATION:Rockit’s Whiskey Bar and Saloon\, 709 N Chaparral St.\, Corpus Christi\, TX\, 78401\, United States
CATEGORIES:Events,Live Show
ATTACH;FMTTYPE=image/jpeg:https://popularproductions.com/wp-content/uploads/2023/01/flat-broke.jpg
END:VEVENT
BEGIN:VEVENT
DTSTART;TZID=America/Chicago:20230119T203000
DTEND;TZID=America/Chicago:20230119T235900
DTSTAMP:20260422T103205
CREATED:20230110T205923Z
LAST-MODIFIED:20230117T163606Z
UID:2371-1674160200-1674172740@popularproductions.com
SUMMARY:Sonny Salinas - The Monster of Reggae
DESCRIPTION:
URL:https://popularproductions.com/event/sonny-salinas-the-monster-of-reggae/
LOCATION:Rockit’s Whiskey Bar and Saloon\, 709 N Chaparral St.\, Corpus Christi\, TX\, 78401\, United States
CATEGORIES:Events,Live Show
ATTACH;FMTTYPE=image/jpeg:https://popularproductions.com/wp-content/uploads/2023/01/323900038_1687265468337820_6313401647899304164_n.jpg
END:VEVENT
END:VCALENDAR